BEGIN:VCALENDAR
VERSION:2.0
PRODID:-//Troop 1803 | Scouting America - ECPv6.15.20//NONSGML v1.0//EN
CALSCALE:GREGORIAN
METHOD:PUBLISH
X-WR-CALNAME:Troop 1803 | Scouting America
X-ORIGINAL-URL:https://troop1803.com
X-WR-CALDESC:Events for Troop 1803 | Scouting America
REFRESH-INTERVAL;VALUE=DURATION:PT1H
X-Robots-Tag:noindex
X-PUBLISHED-TTL:PT1H
BEGIN:VTIMEZONE
TZID:America/Los_Angeles
BEGIN:DAYLIGHT
TZOFFSETFROM:-0800
TZOFFSETTO:-0700
TZNAME:PDT
DTSTART:20250309T100000
END:DAYLIGHT
BEGIN:STANDARD
TZOFFSETFROM:-0700
TZOFFSETTO:-0800
TZNAME:PST
DTSTART:20251102T090000
END:STANDARD
BEGIN:DAYLIGHT
TZOFFSETFROM:-0800
TZOFFSETTO:-0700
TZNAME:PDT
DTSTART:20260308T100000
END:DAYLIGHT
BEGIN:STANDARD
TZOFFSETFROM:-0700
TZOFFSETTO:-0800
TZNAME:PST
DTSTART:20261101T090000
END:STANDARD
BEGIN:DAYLIGHT
TZOFFSETFROM:-0800
TZOFFSETTO:-0700
TZNAME:PDT
DTSTART:20270314T100000
END:DAYLIGHT
BEGIN:STANDARD
TZOFFSETFROM:-0700
TZOFFSETTO:-0800
TZNAME:PST
DTSTART:20271107T090000
END:STANDARD
END:VTIMEZONE
BEGIN:VEVENT
DTSTART;TZID=America/Los_Angeles:20260424T080000
DTEND;TZID=America/Los_Angeles:20260426T170000
DTSTAMP:20260425T035806
CREATED:20260113T010120Z
LAST-MODIFIED:20260113T010120Z
UID:3756-1777017600-1777222800@troop1803.com
SUMMARY:Camporee
DESCRIPTION:
URL:https://troop1803.com/event/camporee/
LOCATION:Oak Canyon Park\, 5305 Santiago Cyn Rd\, Silverado\, CA\, 92676\, United States
CATEGORIES:Camping
ATTACH;FMTTYPE=image/jpeg:https://troop1803.com/wp-content/uploads/2026/01/IMG1847889478104656388.jpg
END:VEVENT
END:VCALENDAR